BEGIN:VCALENDAR
VERSION:2.0
PRODID:-//Tukios.com/
BEGIN:VEVENT
UID:eba68d70-51d5-49fa-80d6-dbedbe8cc8f6@www.millerfh.net
DTSTAMP:20260421T224033Z
DTSTART:20260424T150000Z
DTEND:20260424T160000Z
SUMMARY:Graveside Service
DESCRIPTION:
URL:https://www.millerfh.net/obituaries/wanda-berner
LOCATION:Mt. Carmel Cemetery North 425 Street  Ramsey IL 62080
GEO:39.1490676;-89.171748
END:VEVENT
END:VCALENDAR