BEGIN:VCALENDAR
VERSION:2.0
PRODID:-//Tukios.com/
BEGIN:VEVENT
UID:c87dfc28-2339-4a1c-a20f-5f9220579b71@www.millerfh.net
DTSTAMP:20260422T211853Z
DTSTART:20260424
SUMMARY:Burial
DESCRIPTION:
URL:https://www.millerfh.net/obituaries/betty-worker
LOCATION: North 425 Street  Ramsey IL 62080
GEO:39.1490676;-89.171748
END:VEVENT
END:VCALENDAR