BEGIN:VCALENDAR
VERSION:2.0
PRODID:-//Tukios.com/
BEGIN:VEVENT
UID:e2626b01-424b-413a-8d1a-59e6e45e5926@www.millerfh.net
DTSTAMP:20260422T211725Z
DTSTART:20260424T190000Z
DTEND:20260424T200000Z
SUMMARY:Funeral Service
DESCRIPTION:
URL:https://www.millerfh.net/obituaries/betty-worker
LOCATION: 2756 U.S. 51  Ramsey IL 62080
GEO:39.1363852;-89.1045928
END:VEVENT
END:VCALENDAR