BEGIN:VCALENDAR
VERSION:2.0
PRODID:-//Tukios.com/
BEGIN:VEVENT
UID:6f109477-199e-46b2-92d2-9bce63c08444@www.millerfh.net
DTSTAMP:20260422T211414Z
DTSTART:20260424T180000Z
DTEND:20260424T190000Z
SUMMARY:Visitation
DESCRIPTION:
URL:https://www.millerfh.net/obituaries/betty-worker
LOCATION: 2756 U.S. 51  Ramsey IL 62080
GEO:39.1363852;-89.1045928
END:VEVENT
END:VCALENDAR